BEGIN:VCALENDAR
VERSION:2.0
PRODID:-//ElementsClub Feldbrunnen-St. Niklaus - ECPv6.15.20//NONSGML v1.0//EN
CALSCALE:GREGORIAN
METHOD:PUBLISH
X-ORIGINAL-URL:https://www.elementsclub.ch
X-WR-CALDESC:Veranstaltungen für ElementsClub Feldbrunnen-St. Niklaus
REFRESH-INTERVAL;VALUE=DURATION:PT1H
X-Robots-Tag:noindex
X-PUBLISHED-TTL:PT1H
BEGIN:VTIMEZONE
TZID:Europe/Paris
BEGIN:DAYLIGHT
TZOFFSETFROM:+0100
TZOFFSETTO:+0200
TZNAME:CEST
DTSTART:20240331T010000
END:DAYLIGHT
BEGIN:STANDARD
TZOFFSETFROM:+0200
TZOFFSETTO:+0100
TZNAME:CET
DTSTART:20241027T010000
END:STANDARD
BEGIN:DAYLIGHT
TZOFFSETFROM:+0100
TZOFFSETTO:+0200
TZNAME:CEST
DTSTART:20250330T010000
END:DAYLIGHT
BEGIN:STANDARD
TZOFFSETFROM:+0200
TZOFFSETTO:+0100
TZNAME:CET
DTSTART:20251026T010000
END:STANDARD
BEGIN:DAYLIGHT
TZOFFSETFROM:+0100
TZOFFSETTO:+0200
TZNAME:CEST
DTSTART:20260329T010000
END:DAYLIGHT
BEGIN:STANDARD
TZOFFSETFROM:+0200
TZOFFSETTO:+0100
TZNAME:CET
DTSTART:20261025T010000
END:STANDARD
BEGIN:DAYLIGHT
TZOFFSETFROM:+0100
TZOFFSETTO:+0200
TZNAME:CEST
DTSTART:20270328T010000
END:DAYLIGHT
BEGIN:STANDARD
TZOFFSETFROM:+0200
TZOFFSETTO:+0100
TZNAME:CET
DTSTART:20271031T010000
END:STANDARD
END:VTIMEZONE
BEGIN:VEVENT
DTSTART;TZID=Europe/Paris:20260410T193000
DTEND;TZID=Europe/Paris:20260410T233000
DTSTAMP:20260422T141056
CREATED:20250423T064531Z
LAST-MODIFIED:20251210T182129Z
UID:2305-1775849400-1775863800@www.elementsclub.ch
SUMMARY:1. Freitag vom Monat April
DESCRIPTION:
URL:https://www.elementsclub.ch/event/1-freitag-vom-monat-april-4/
LOCATION:Klublokal\, 4532\, Schweiz
END:VEVENT
BEGIN:VEVENT
DTSTART;VALUE=DATE:20260322
DTEND;VALUE=DATE:20260323
DTSTAMP:20260422T141056
CREATED:20251201T214409Z
LAST-MODIFIED:20251201T214409Z
UID:2433-1774137600-1774223999@www.elementsclub.ch
SUMMARY:KVK - Sonntagsbrunch
DESCRIPTION:
URL:https://www.elementsclub.ch/event/kvk-sonntagsbrunch/
LOCATION:Klublokal\, 4532\, Schweiz
END:VEVENT
BEGIN:VEVENT
DTSTART;TZID=Europe/Paris:20260317T180000
DTEND;TZID=Europe/Paris:20260317T220000
DTSTAMP:20260422T141056
CREATED:20260312T191502Z
LAST-MODIFIED:20260312T191502Z
UID:2494-1773770400-1773784800@www.elementsclub.ch
SUMMARY:WUK Sitzung
DESCRIPTION:
URL:https://www.elementsclub.ch/event/wuk-sitzung-5/
LOCATION:Klublokal\, 4532\, Schweiz
END:VEVENT
BEGIN:VEVENT
DTSTART;TZID=Europe/Paris:20260316T193000
DTEND;TZID=Europe/Paris:20260316T220000
DTSTAMP:20260422T141056
CREATED:20260302T052741Z
LAST-MODIFIED:20260302T052741Z
UID:2491-1773689400-1773698400@www.elementsclub.ch
SUMMARY:Vorstand v. ElementsClub
DESCRIPTION:
URL:https://www.elementsclub.ch/event/vorstand-v-elementsclub/
LOCATION:Klublokal\, 4532\, Schweiz
END:VEVENT
BEGIN:VEVENT
DTSTART;TZID=Europe/Paris:20260306T193000
DTEND;TZID=Europe/Paris:20260306T233000
DTSTAMP:20260422T141056
CREATED:20250423T064437Z
LAST-MODIFIED:20250423T064437Z
UID:2303-1772825400-1772839800@www.elementsclub.ch
SUMMARY:1. Freitag vom Monat März
DESCRIPTION:
URL:https://www.elementsclub.ch/event/1-freitag-vom-monat-maerz-4/
LOCATION:Klublokal\, 4532\, Schweiz
END:VEVENT
BEGIN:VEVENT
DTSTART;TZID=Europe/Paris:20260226T183000
DTEND;TZID=Europe/Paris:20260226T223000
DTSTAMP:20260422T141056
CREATED:20260225T002734Z
LAST-MODIFIED:20260225T002734Z
UID:2487-1772130600-1772145000@www.elementsclub.ch
SUMMARY:Mabafe Raglettabend
DESCRIPTION:
URL:https://www.elementsclub.ch/event/mabafe-raglettabend/
LOCATION:Klublokal\, 4532\, Schweiz
END:VEVENT
BEGIN:VEVENT
DTSTART;TZID=Europe/Paris:20260223T190000
DTEND;TZID=Europe/Paris:20260223T213000
DTSTAMP:20260422T141056
CREATED:20251215T203153Z
LAST-MODIFIED:20251215T203153Z
UID:2458-1771873200-1771882200@www.elementsclub.ch
SUMMARY:Bespr. Dorffest mit den Vereinen
DESCRIPTION:
URL:https://www.elementsclub.ch/event/bespr-dorffest-mit-den-vereinen/
LOCATION:Klublokal\, 4532\, Schweiz
END:VEVENT
BEGIN:VEVENT
DTSTART;TZID=Europe/Paris:20260217T190000
DTEND;TZID=Europe/Paris:20260217T220000
DTSTAMP:20260422T141056
CREATED:20260206T204548Z
LAST-MODIFIED:20260206T204548Z
UID:2479-1771354800-1771365600@www.elementsclub.ch
SUMMARY:Darth
DESCRIPTION:
URL:https://www.elementsclub.ch/event/darth/
LOCATION:Klublokal\, 4532\, Schweiz
END:VEVENT
BEGIN:VEVENT
DTSTART;VALUE=DATE:20260207
DTEND;VALUE=DATE:20260221
DTSTAMP:20260422T141056
CREATED:20250523T184542Z
LAST-MODIFIED:20250523T184542Z
UID:2319-1770422400-1771631999@www.elementsclub.ch
SUMMARY:Fasnacht
DESCRIPTION:
URL:https://www.elementsclub.ch/event/fasnacht/
LOCATION:Klublokal\, 4532\, Schweiz
END:VEVENT
BEGIN:VEVENT
DTSTART;TZID=Europe/Paris:20260206T193000
DTEND;TZID=Europe/Paris:20260206T233000
DTSTAMP:20260422T141056
CREATED:20250423T064320Z
LAST-MODIFIED:20250423T064320Z
UID:2301-1770406200-1770420600@www.elementsclub.ch
SUMMARY:1. Freitag vom Monat Februar
DESCRIPTION:
URL:https://www.elementsclub.ch/event/1-freitag-vom-monat-februar-4/
LOCATION:Klublokal\, 4532\, Schweiz
END:VEVENT
BEGIN:VEVENT
DTSTART;TZID=Europe/Paris:20260130T110000
DTEND;TZID=Europe/Paris:20260130T130000
DTSTAMP:20260422T141056
CREATED:20260115T094507Z
LAST-MODIFIED:20260115T094507Z
UID:2477-1769770800-1769778000@www.elementsclub.ch
SUMMARY:Anlass Frank Buchser
DESCRIPTION:
URL:https://www.elementsclub.ch/event/anlass-frank-buchser/
LOCATION:Klublokal\, 4532\, Schweiz
END:VEVENT
BEGIN:VEVENT
DTSTART;TZID=Europe/Paris:20260118T110000
DTEND;TZID=Europe/Paris:20260118T143000
DTSTAMP:20260422T141056
CREATED:20250930T053014Z
LAST-MODIFIED:20250930T053014Z
UID:2405-1768734000-1768746600@www.elementsclub.ch
SUMMARY:Generalversammlung vom ElementsClub
DESCRIPTION:
URL:https://www.elementsclub.ch/event/generalversammlung-vom-elementsclub-2/
LOCATION:Klublokal\, 4532\, Schweiz
END:VEVENT
BEGIN:VEVENT
DTSTART;VALUE=DATE:20260117
DTEND;VALUE=DATE:20260118
DTSTAMP:20260422T141056
CREATED:20250930T053334Z
LAST-MODIFIED:20250930T053334Z
UID:2407-1768608000-1768694399@www.elementsclub.ch
SUMMARY:Vorbereitung GV vom ElementsClub
DESCRIPTION:
URL:https://www.elementsclub.ch/event/vorbereitung-gv-vom-elementsclub/
LOCATION:Klublokal\, 4532\, Schweiz
END:VEVENT
BEGIN:VEVENT
DTSTART;TZID=Europe/Paris:20260109T190000
DTEND;TZID=Europe/Paris:20260109T233000
DTSTAMP:20260422T141056
CREATED:20250523T184317Z
LAST-MODIFIED:20250523T184317Z
UID:2315-1767985200-1768001400@www.elementsclub.ch
SUMMARY:Höck
DESCRIPTION:
URL:https://www.elementsclub.ch/event/hoeck/
LOCATION:Klublokal\, 4532\, Schweiz
END:VEVENT
BEGIN:VEVENT
DTSTART;TZID=Europe/Paris:20260107T193000
DTEND;TZID=Europe/Paris:20260107T220000
DTSTAMP:20260422T141056
CREATED:20260106T054020Z
LAST-MODIFIED:20260106T054020Z
UID:2474-1767814200-1767823200@www.elementsclub.ch
SUMMARY:Vorstand ElementsClub
DESCRIPTION:
URL:https://www.elementsclub.ch/event/vorstand-elementsclub/
LOCATION:Klublokal\, 4532\, Schweiz
END:VEVENT
BEGIN:VEVENT
DTSTART;TZID=Europe/Paris:20260106T180000
DTEND;TZID=Europe/Paris:20260106T230000
DTSTAMP:20260422T141056
CREATED:20251115T015410Z
LAST-MODIFIED:20251115T015410Z
UID:2426-1767722400-1767740400@www.elementsclub.ch
SUMMARY:Mabafe
DESCRIPTION: 
URL:https://www.elementsclub.ch/event/mabafe-2/
LOCATION:Klublokal\, 4532\, Schweiz
END:VEVENT
BEGIN:VEVENT
DTSTART;TZID=Europe/Paris:20260105T183000
DTEND;TZID=Europe/Paris:20260105T213000
DTSTAMP:20260422T141056
CREATED:20251219T181955Z
LAST-MODIFIED:20251219T181955Z
UID:2466-1767637800-1767648600@www.elementsclub.ch
SUMMARY:Mabafe
DESCRIPTION:
URL:https://www.elementsclub.ch/event/mabafe-3/
LOCATION:Klublokal\, 4532\, Schweiz
END:VEVENT
BEGIN:VEVENT
DTSTART;TZID=Europe/Paris:20251230T180000
DTEND;TZID=Europe/Paris:20251230T220000
DTSTAMP:20260422T141056
CREATED:20251227T221534Z
LAST-MODIFIED:20251227T221534Z
UID:2468-1767117600-1767132000@www.elementsclub.ch
SUMMARY:Darth wm
DESCRIPTION:
URL:https://www.elementsclub.ch/event/darth-wm/
LOCATION:Klublokal\, 4532\, Schweiz
END:VEVENT
BEGIN:VEVENT
DTSTART;TZID=Europe/Paris:20251227T183000
DTEND;TZID=Europe/Paris:20251227T230000
DTSTAMP:20260422T141056
CREATED:20241212T071634Z
LAST-MODIFIED:20251210T181744Z
UID:2206-1766860200-1766876400@www.elementsclub.ch
SUMMARY:Members only: Neujahrs-Umtrunk ElementsClub
DESCRIPTION:
URL:https://www.elementsclub.ch/event/members-only-neujahrs-umtrunk-elementsclub/
LOCATION:Klublokal\, 4532\, Schweiz
END:VEVENT
BEGIN:VEVENT
DTSTART;VALUE=DATE:20251217
DTEND;VALUE=DATE:20251219
DTSTAMP:20260422T141056
CREATED:20241212T071848Z
LAST-MODIFIED:20241212T071848Z
UID:2208-1765929600-1766102399@www.elementsclub.ch
SUMMARY:Reserviert für die Arbeiten an der Schulweihnachtsfeier
DESCRIPTION:
URL:https://www.elementsclub.ch/event/reserviert-fuer-die-arbeiten-an-der-schulweihnachtsfeier/
LOCATION:Klublokal\, 4532\, Schweiz
END:VEVENT
BEGIN:VEVENT
DTSTART;TZID=Europe/Paris:20251215T190000
DTEND;TZID=Europe/Paris:20251215T220000
DTSTAMP:20260422T141056
CREATED:20251104T140800Z
LAST-MODIFIED:20251127T103004Z
UID:2420-1765825200-1765836000@www.elementsclub.ch
SUMMARY:Vereinskonvent
DESCRIPTION:
URL:https://www.elementsclub.ch/event/evtl-vereinskonvent/
LOCATION:Klublokal\, 4532\, Schweiz
END:VEVENT
BEGIN:VEVENT
DTSTART;TZID=Europe/Paris:20251213T110000
DTEND;TZID=Europe/Paris:20251213T160000
DTSTAMP:20260422T141056
CREATED:20241228T121002Z
LAST-MODIFIED:20241228T121002Z
UID:2244-1765623600-1765641600@www.elementsclub.ch
SUMMARY:Weihnachtsessen Naturförderverein Solothurn
DESCRIPTION:
URL:https://www.elementsclub.ch/event/weihnachtsessen-naturfoerderverein-solothurn/
LOCATION:Klublokal\, 4532\, Schweiz
END:VEVENT
BEGIN:VEVENT
DTSTART;TZID=Europe/Paris:20251212T170000
DTEND;TZID=Europe/Paris:20251212T233000
DTSTAMP:20260422T141056
CREATED:20241225T121210Z
LAST-MODIFIED:20241225T121210Z
UID:2216-1765558800-1765582200@www.elementsclub.ch
SUMMARY:Bänzejass
DESCRIPTION:
URL:https://www.elementsclub.ch/event/baenzejass/
LOCATION:Klublokal\, 4532\, Schweiz
END:VEVENT
BEGIN:VEVENT
DTSTART;TZID=Europe/Paris:20251211T180000
DTEND;TZID=Europe/Paris:20251211T220000
DTSTAMP:20260422T141056
CREATED:20241225T120743Z
LAST-MODIFIED:20241225T120743Z
UID:2213-1765476000-1765490400@www.elementsclub.ch
SUMMARY:Einrichten Bänzejass
DESCRIPTION:
URL:https://www.elementsclub.ch/event/einrichten-baenzejass-2/
LOCATION:Klublokal\, 4532\, Schweiz
END:VEVENT
BEGIN:VEVENT
DTSTART;TZID=Europe/Paris:20251205T193000
DTEND;TZID=Europe/Paris:20251205T230000
DTSTAMP:20260422T141056
CREATED:20241212T071320Z
LAST-MODIFIED:20241212T071320Z
UID:2204-1764963000-1764975600@www.elementsclub.ch
SUMMARY:1. Freitag vom Monat Dezember
DESCRIPTION:
URL:https://www.elementsclub.ch/event/1-freitag-vom-monat-dezember-3/
LOCATION:Klublokal\, 4532\, Schweiz
END:VEVENT
BEGIN:VEVENT
DTSTART;TZID=Europe/Paris:20251202T193000
DTEND;TZID=Europe/Paris:20251202T220000
DTSTAMP:20260422T141056
CREATED:20251125T051947Z
LAST-MODIFIED:20251125T051947Z
UID:2430-1764703800-1764712800@www.elementsclub.ch
SUMMARY:Vorstand vom ElementsClub
DESCRIPTION:
URL:https://www.elementsclub.ch/event/vorstand-vom-elementsclub/
LOCATION:Klublokal\, 4532\, Schweiz
END:VEVENT
BEGIN:VEVENT
DTSTART;TZID=Europe/Paris:20251129T110000
DTEND;TZID=Europe/Paris:20251129T233000
DTSTAMP:20260422T141056
CREATED:20251024T152844Z
LAST-MODIFIED:20251024T152844Z
UID:2417-1764414000-1764459000@www.elementsclub.ch
SUMMARY:Vereinsanlass der Sportschützen
DESCRIPTION:
URL:https://www.elementsclub.ch/event/vereinsanlass-der-sportschuetzen/
LOCATION:Klublokal\, 4532\, Schweiz
END:VEVENT
BEGIN:VEVENT
DTSTART;VALUE=DATE:20251115
DTEND;VALUE=DATE:20251117
DTSTAMP:20260422T141056
CREATED:20250930T052610Z
LAST-MODIFIED:20250930T052610Z
UID:2402-1763164800-1763337599@www.elementsclub.ch
SUMMARY:Reserviert für den Sponsoranlass
DESCRIPTION:
URL:https://www.elementsclub.ch/event/reserviert-fuer-den-sponsoranlass/
LOCATION:Klublokal\, 4532\, Schweiz
END:VEVENT
BEGIN:VEVENT
DTSTART;TZID=Europe/Paris:20251114T180000
DTEND;TZID=Europe/Paris:20251114T220000
DTSTAMP:20260422T141056
CREATED:20241228T120652Z
LAST-MODIFIED:20241228T120652Z
UID:2242-1763143200-1763157600@www.elementsclub.ch
SUMMARY:Alpsagen\, Erzählabend
DESCRIPTION:
URL:https://www.elementsclub.ch/event/alpsagen-erzaehlabend/
LOCATION:Klublokal\, 4532\, Schweiz
END:VEVENT
BEGIN:VEVENT
DTSTART;TZID=Europe/Paris:20251111T190000
DTEND;TZID=Europe/Paris:20251111T220000
DTSTAMP:20260422T141056
CREATED:20251111T010050Z
LAST-MODIFIED:20251111T010050Z
UID:2422-1762887600-1762898400@www.elementsclub.ch
SUMMARY:Darth Meisterschaft
DESCRIPTION:
URL:https://www.elementsclub.ch/event/darth-meisterschaft/
LOCATION:Klublokal\, 4532\, Schweiz
END:VEVENT
END:VCALENDAR